BEGIN:VCALENDAR
VERSION:2.0
PRODID:-//hacksw/handcal//NONSGML v1.0//EN
CALSCALE:GREGORIAN
X-WR-TIMEZONE:Europe/Paris
BEGIN:VEVENT
LOCATION:Campus de Battelle\, Bâtiment BRue de la Tambourine 17CH-1227 Carouge\, Suisse
SUMMARY:Portes ouvertes HEG 2026
URL;VALUE=URI:https://www.hesge.ch/geneve/evenements/portes-ouvertes-heg-2026
DTSTART:20260304T123000
DTEND:20260304T173000
DTSTAMP:20260419T230156
UID:69e542c4c98a0
END:VEVENT
END:VCALENDAR