BEGIN:VCALENDAR
VERSION:2.0
PRODID:-//hacksw/handcal//NONSGML v1.0//EN
CALSCALE:GREGORIAN
X-WR-TIMEZONE:Europe/Paris
BEGIN:VEVENT
LOCATION:Haute école de gestion Arc\, Espace de l'Europe 11\, 2000 Neuchâtel
SUMMARY: Gestion de risques et gestion de crise\, quels liens avec la Veille ? 
URL;VALUE=URI:https://www.hesge.ch/geneve/evenements/gestion-risques-gestion-crise-quels-liens-la-veille
DTSTART:20250626T083000
DTEND:20250626T170000
DTSTAMP:20260425T164340
UID:69ecd31c499eb
END:VEVENT
END:VCALENDAR