BEGIN:VCALENDAR
VERSION:2.0
PRODID:-//hacksw/handcal//NONSGML v1.0//EN
CALSCALE:GREGORIAN
X-WR-TIMEZONE:Europe/Paris
BEGIN:VEVENT
LOCATION:             Campus HEAD\, Bâtiment H\, Le Cube                      Avenue de Châtelaine 7                            1203              Genève                  Suisse                                                  Regarder les plans: map.search.ch\, Google Maps      
SUMMARY:Grand Prix Töpffer - Exposition - Dominique Goblet
URL;VALUE=URI:https://www.hesge.ch/geneve/evenements/grand-prix-topffer-exposition-dominique-goblet
DTSTART:20210419T140000
DTEND:20210429T170000
DTSTAMP:20260425T230226
UID:69ed2be295106
END:VEVENT
END:VCALENDAR